BEGIN:VCALENDAR
VERSION:2.0
PRODID:-//sortir.bf - ECPv4.9.14//NONSGML v1.0//EN
CALSCALE:GREGORIAN
METHOD:PUBLISH
X-WR-CALNAME:sortir.bf
X-ORIGINAL-URL:https://sortir.bf
X-WR-CALDESC:Évènements pour sortir.bf
BEGIN:VTIMEZONE
TZID:Africa/Ouagadougou
BEGIN:STANDARD
TZOFFSETFROM:+0000
TZOFFSETTO:+0000
TZNAME:GMT
DTSTART:20170101T000000
END:STANDARD
END:VTIMEZONE
BEGIN:VEVENT
DTSTART;TZID=Africa/Ouagadougou:20170728T080000
DTEND;TZID=Africa/Ouagadougou:20170728T170000
DTSTAMP:20210828T143054
CREATED:20170728T194200Z
LAST-MODIFIED:20170728T194200Z
UID:11221-1501228800-1501261200@sortir.bf
SUMMARY:Veille citoyenne
DESCRIPTION:LA VEILLE CITOYENNE\, HIER\, AUJOURD’HUI ET DEMAIN\nCe vendredi 28 et samedi 29 juillet\, le Balai citoyen organise une série d’activités à Ouagadougou.\nIl s’agit notamment d’une conférence publique autour du thème «le Partenariat public privé (PPP)\, la réforme du 3 juillet en question : implications\, défis et responsabilités de la société civile pour le suivi » le vendredi 28 juillet à partir de 16h dans la salle de conférence du CBC.\nLe samedi 29 juillet à 19h\, se tiendra un grand concert-meeting live à l’Espace public à côté du lycée privé le Technicien à Cissin avec Smockey\, Samsk Le Jah\, Oscibi Jhoann\, Collectif Qu’on Sonne et Voix Ailes. \n
URL:https://sortir.bf/evenement/veille-citoyenne-2/
LOCATION:Lycée Privé le Technicien\, Non loin de waga Mix aprè le collège privée Benaja\, Ouagadougou\, Burkina Faso
CATEGORIES:Concert,Musique
ATTACH;FMTTYPE=image/jpeg:https://sortir.bf/wp-content/uploads/2017/07/veille-citoyenne.jpg
GEO:12.320464;-1.551971
X-APPLE-STRUCTURED-LOCATION;VALUE=URI;X-ADDRESS=Lycée Privé le Technicien Non loin de waga Mix aprè le collège privée Benaja Ouagadougou Burkina Faso;X-APPLE-RADIUS=500;X-TITLE=Non loin de waga Mix aprè le collège privée Benaja:geo:-1.551971,12.320464
END:VEVENT
END:VCALENDAR