BEGIN:VCALENDAR
VERSION:2.0
PRODID:-//sortir.bf - ECPv4.9.14//NONSGML v1.0//EN
CALSCALE:GREGORIAN
METHOD:PUBLISH
X-WR-CALNAME:sortir.bf
X-ORIGINAL-URL:https://sortir.bf
X-WR-CALDESC:Évènements pour sortir.bf
BEGIN:VTIMEZONE
TZID:Africa/Ouagadougou
BEGIN:STANDARD
TZOFFSETFROM:+0000
TZOFFSETTO:+0000
TZNAME:GMT
DTSTART:20190101T000000
END:STANDARD
END:VTIMEZONE
BEGIN:VEVENT
DTSTART;TZID=Africa/Ouagadougou:20190324T200000
DTEND;TZID=Africa/Ouagadougou:20190324T200000
DTSTAMP:20210825T223928
CREATED:20190319T101126Z
LAST-MODIFIED:20190319T101126Z
UID:27753-1553457600-1553457600@sortir.bf
SUMMARY:Us
DESCRIPTION:Des parents emmènent leurs enfants dans leur maison secondaire près d’une plage afin de se détendre et de se déconnecter. Des amis les rejoignent. Au fur et à mesure que la nuit arrive\, la sérénité se transforme en tension. Lorsque des invités – qui n’étaient pas prévus – se joignent au groupe\, l’agitation palpable dégénère en chaos… \n
URL:https://sortir.bf/evenement/us/2019-03-24/
LOCATION:Canal Olympia Yennenga\, Situe a Ouaga 2000 Cote Est du monument des Martyrs\, Ouagadougou\, Burkina Faso
CATEGORIES:Cinéma,Long métrage
ATTACH;FMTTYPE=image/jpeg:https://sortir.bf/wp-content/uploads/2019/03/us.jpg
GEO:12.310525;-1.499279
X-APPLE-STRUCTURED-LOCATION;VALUE=URI;X-ADDRESS=Canal Olympia Yennenga Situe a Ouaga 2000 Cote Est du monument des Martyrs Ouagadougou Burkina Faso;X-APPLE-RADIUS=500;X-TITLE=Situe a Ouaga 2000 Cote Est du monument des Martyrs:geo:-1.499279,12.310525
END:VEVENT
END:VCALENDAR