BEGIN:VCALENDAR
VERSION:2.0
PRODID:-//sortir.bf - ECPv4.9.14//NONSGML v1.0//EN
CALSCALE:GREGORIAN
METHOD:PUBLISH
X-WR-CALNAME:sortir.bf
X-ORIGINAL-URL:https://sortir.bf
X-WR-CALDESC:Évènements pour sortir.bf
BEGIN:VTIMEZONE
TZID:Africa/Ouagadougou
BEGIN:STANDARD
TZOFFSETFROM:+0000
TZOFFSETTO:+0000
TZNAME:GMT
DTSTART:20190101T000000
END:STANDARD
END:VTIMEZONE
BEGIN:VEVENT
DTSTART;TZID=Africa/Ouagadougou:20190405T200000
DTEND;TZID=Africa/Ouagadougou:20190405T200000
DTSTAMP:20210825T224529
CREATED:20190402T140710Z
LAST-MODIFIED:20190402T140710Z
UID:27891-1554494400-1554494400@sortir.bf
SUMMARY:Shazam!
DESCRIPTION:Shazam! est un film de super-héros américain réalisé par David F. Sandberg\, dont la sortie est prévue en 2019. Il s’agit du septième de l’univers cinématographique DC. Il met en scène le personnage de DC Comics Shazam créé par C. C. Beck et Bill Parker… \n
URL:https://sortir.bf/evenement/shazam/2019-04-05/
LOCATION:Canal Olympia Yennenga\, Situe a Ouaga 2000 Cote Est du monument des Martyrs\, Ouagadougou\, Burkina Faso
CATEGORIES:Cinéma,Long métrage
ATTACH;FMTTYPE=image/jpeg:https://sortir.bf/wp-content/uploads/2019/04/Shazam.jpeg
GEO:12.310525;-1.499279
X-APPLE-STRUCTURED-LOCATION;VALUE=URI;X-ADDRESS=Canal Olympia Yennenga Situe a Ouaga 2000 Cote Est du monument des Martyrs Ouagadougou Burkina Faso;X-APPLE-RADIUS=500;X-TITLE=Situe a Ouaga 2000 Cote Est du monument des Martyrs:geo:-1.499279,12.310525
END:VEVENT
END:VCALENDAR