BEGIN:VCALENDAR
VERSION:2.0
PRODID:-//sortir.bf - ECPv4.9.14//NONSGML v1.0//EN
CALSCALE:GREGORIAN
METHOD:PUBLISH
X-WR-CALNAME:sortir.bf
X-ORIGINAL-URL:https://sortir.bf
X-WR-CALDESC:Évènements pour sortir.bf
BEGIN:VTIMEZONE
TZID:Africa/Ouagadougou
BEGIN:STANDARD
TZOFFSETFROM:+0000
TZOFFSETTO:+0000
TZNAME:GMT
DTSTART:20170101T000000
END:STANDARD
END:VTIMEZONE
BEGIN:VEVENT
DTSTART;TZID=Africa/Ouagadougou:20171216T200000
DTEND;TZID=Africa/Ouagadougou:20171216T200000
DTSTAMP:20210826T080738
CREATED:20171214T094524Z
LAST-MODIFIED:20171214T094524Z
UID:15713-1513454400-1513454400@sortir.bf
SUMMARY:Rentrée Culturelle
DESCRIPTION:Ce samedi 15 janvier c’est la rentrée culturelle du Centre National des Arts du Spectacle et de l’Audiovisuel : Prestations musicales\, danses\, prestations humoristiques \n
URL:https://sortir.bf/evenement/rentree-culturelle/
LOCATION:CENASA\, Situe a Paspanga apres le Zenda a gauche au feu qui suit a droite\, Ouagadougou\, 01 BP 6032\, Burkina Faso
CATEGORIES:Cérémonie,Concert,Danse,Humour,Musique,Spectacle vivant
ATTACH;FMTTYPE=image/jpeg:https://sortir.bf/wp-content/uploads/2017/12/rentrée-artistique-cenasa.jpg
GEO:12.3784103;-1.5164825
X-APPLE-STRUCTURED-LOCATION;VALUE=URI;X-ADDRESS=CENASA Situe a Paspanga apres le Zenda a gauche au feu qui suit a droite Ouagadougou 01 BP 6032 Burkina Faso;X-APPLE-RADIUS=500;X-TITLE=Situe a Paspanga apres le Zenda a gauche au feu qui suit a droite:geo:-1.5164825,12.3784103
END:VEVENT
END:VCALENDAR