BEGIN:VCALENDAR
VERSION:2.0
PRODID:-//sortir.bf - ECPv4.9.14//NONSGML v1.0//EN
CALSCALE:GREGORIAN
METHOD:PUBLISH
X-WR-CALNAME:sortir.bf
X-ORIGINAL-URL:https://sortir.bf
X-WR-CALDESC:Évènements pour sortir.bf
BEGIN:VTIMEZONE
TZID:Africa/Ouagadougou
BEGIN:STANDARD
TZOFFSETFROM:+0000
TZOFFSETTO:+0000
TZNAME:GMT
DTSTART:20170101T000000
END:STANDARD
END:VTIMEZONE
BEGIN:VEVENT
DTSTART;TZID=Africa/Ouagadougou:20171223T090000
DTEND;TZID=Africa/Ouagadougou:20171223T170000
DTSTAMP:20210828T142949
CREATED:20171222T205050Z
LAST-MODIFIED:20171222T205050Z
UID:15960-1514019600-1514048400@sortir.bf
SUMMARY:Rencontres des anciens élèves du Lycée Vénégré
DESCRIPTION:Ce samedi\, tous les anciens élèves du Lycée Vénégré sont conviés à une rencontre  de partage d’expérience avec les actuels élèves du lycée \n
URL:https://sortir.bf/evenement/rencontres-des-anciens-eleves-du-lycee-venegre/
LOCATION:Lycée Municipal Vénégré\, secteur 17 200m apres la Clinique souka\, Ouagadougou
CATEGORIES:Rencontres
ATTACH;FMTTYPE=image/jpeg:https://sortir.bf/wp-content/uploads/2017/12/venegre.jpg
GEO:12.337845;-1.560811
X-APPLE-STRUCTURED-LOCATION;VALUE=URI;X-ADDRESS=Lycée Municipal Vénégré secteur 17 200m apres la Clinique souka Ouagadougou;X-APPLE-RADIUS=500;X-TITLE=secteur 17 200m apres la Clinique souka:geo:-1.560811,12.337845
END:VEVENT
END:VCALENDAR