BEGIN:VCALENDAR
VERSION:2.0
PRODID:-//sortir.bf - ECPv4.9.14//NONSGML v1.0//EN
CALSCALE:GREGORIAN
METHOD:PUBLISH
X-WR-CALNAME:sortir.bf
X-ORIGINAL-URL:https://sortir.bf
X-WR-CALDESC:Évènements pour sortir.bf
BEGIN:VTIMEZONE
TZID:Africa/Ouagadougou
BEGIN:STANDARD
TZOFFSETFROM:+0000
TZOFFSETTO:+0000
TZNAME:GMT
DTSTART:20180101T000000
END:STANDARD
END:VTIMEZONE
BEGIN:VEVENT
DTSTART;TZID=Africa/Ouagadougou:20180504T190000
DTEND;TZID=Africa/Ouagadougou:20180504T190000
DTSTAMP:20210828T142402
CREATED:20180419T162859Z
LAST-MODIFIED:20180419T162859Z
UID:19026-1525460400-1525460400@sortir.bf
SUMMARY:Ragandé de KPG
DESCRIPTION:« Ragandé ! » est un spectacle à l’image de la place du village\, où la parole\, les chants\, les musiques\, les proverbes\, les joutes verbales se croisent pour agrémenter la vie de la société et transmettre des valeurs humaines. \nSpectacle interactif qui aille des moments d’écoute et de questionnement. Un espace dans lequel la poésie et l’humour véhiculent un message de joie\, bercé pas un rythme entre jazz et blues qui entraîne le corps à danser. Dans ce mouvement d’ensemble entre le public et les artistes\, chaque instruments raconte une histoire et chaque histoire puise ses racines sans les profondeurs de la mélodie. \n
URL:https://sortir.bf/evenement/ragande-de-kpg/2018-05-04/
LOCATION:Les Bois de Karpala\, Ouagadougou
CATEGORIES:Conte,Spectacle vivant
ATTACH;FMTTYPE=image/jpeg:https://sortir.bf/wp-content/uploads/2018/04/ragandé-KPG.jpg
END:VEVENT
END:VCALENDAR