BEGIN:VCALENDAR
VERSION:2.0
PRODID:-//sortir.bf - ECPv4.9.14//NONSGML v1.0//EN
CALSCALE:GREGORIAN
METHOD:PUBLISH
X-WR-CALNAME:sortir.bf
X-ORIGINAL-URL:https://sortir.bf
X-WR-CALDESC:Évènements pour sortir.bf
BEGIN:VTIMEZONE
TZID:Africa/Ouagadougou
BEGIN:STANDARD
TZOFFSETFROM:+0000
TZOFFSETTO:+0000
TZNAME:GMT
DTSTART:20170101T000000
END:STANDARD
END:VTIMEZONE
BEGIN:VEVENT
DTSTART;TZID=Africa/Ouagadougou:20171222T150000
DTEND;TZID=Africa/Ouagadougou:20171222T150000
DTSTAMP:20210828T143659
CREATED:20171217T221323Z
LAST-MODIFIED:20171217T221323Z
UID:15799-1513954800-1513954800@sortir.bf
SUMMARY:Match de Football\, détenues contres les femmes artistes
DESCRIPTION:
URL:https://sortir.bf/evenement/match-de-football-detenues-contres-les-femmes-artistes/
LOCATION:MACO\, Face au parc Bangr Weoo en allant à l'ENAREF\, Ouagadougou
CATEGORIES:Social
ATTACH;FMTTYPE=image/jpeg:https://sortir.bf/wp-content/uploads/2017/12/don-de-soi.jpg
GEO:12.387528;-1.485890
X-APPLE-STRUCTURED-LOCATION;VALUE=URI;X-ADDRESS=MACO Face au parc Bangr Weoo en allant à l'ENAREF Ouagadougou;X-APPLE-RADIUS=500;X-TITLE=Face au parc Bangr Weoo en allant à l'ENAREF:geo:-1.485890,12.387528
END:VEVENT
END:VCALENDAR