BEGIN:VCALENDAR
VERSION:2.0
PRODID:-//sortir.bf - ECPv4.9.14//NONSGML v1.0//EN
CALSCALE:GREGORIAN
METHOD:PUBLISH
X-WR-CALNAME:sortir.bf
X-ORIGINAL-URL:https://sortir.bf
X-WR-CALDESC:Évènements pour sortir.bf
BEGIN:VTIMEZONE
TZID:Africa/Ouagadougou
BEGIN:STANDARD
TZOFFSETFROM:+0000
TZOFFSETTO:+0000
TZNAME:GMT
DTSTART:20170101T000000
END:STANDARD
END:VTIMEZONE
BEGIN:VEVENT
DTSTART;TZID=Africa/Ouagadougou:20171123T100000
DTEND;TZID=Africa/Ouagadougou:20171123T100000
DTSTAMP:20210828T142539
CREATED:20171120T174008Z
LAST-MODIFIED:20171120T182051Z
UID:14925-1511431200-1511431200@sortir.bf
SUMMARY:L'aventure ambiguë
DESCRIPTION:Rendez vous littéraire  avec le roman de  Cheikh Hamidou Kane\, présenté par M. Boubacar DAO avec la Modération bdoulaye OUATTARA \nL’aventure ambiguë est l’histoire d’un jeune homme du nom de Samba Diallo\, héros au pays des Diallobé. Dans le roman\, nous assistons tout d’abord à son passage de l’école coranique à l’école des Blancs. Trois personnages exerceront une influence sur lui dans la première partie de l’œuvre\, à savoir le chef des Diallobé\, son maître spirituel Thierno\, et la sœur du chef\, la Grande Royale. Cette dernière insistera pour que Samba Diallo aille à l’école nouvelle afin d’apprendre cet art de « vaincre sans avoir raison ». Dans la deuxième partie de l’œuvre nous avons son séjour en occident\, précisément en France. Ce séjour provoquera la mise en question de sa foi en Dieu… Enfin nous avons son retour au pays de Diallobé et sa mort causée par le fou. \n
URL:https://sortir.bf/evenement/laventure-ambigue/
LOCATION:Lycée Bogodogo\, Avenue du Capitaine Thomas Sankara\, Ouagadougou\, Burkina Faso
CATEGORIES:Littérature,Panel,Rencontres
ATTACH;FMTTYPE=image/jpeg:https://sortir.bf/wp-content/uploads/2017/11/aventure-ambigue.jpg
GEO:12.381448;-1.506498
X-APPLE-STRUCTURED-LOCATION;VALUE=URI;X-ADDRESS=Lycée Bogodogo Avenue du Capitaine Thomas Sankara Ouagadougou Burkina Faso;X-APPLE-RADIUS=500;X-TITLE=Avenue du Capitaine Thomas Sankara:geo:-1.506498,12.381448
END:VEVENT
END:VCALENDAR