BEGIN:VCALENDAR
VERSION:2.0
PRODID:-//sortir.bf - ECPv4.9.14//NONSGML v1.0//EN
CALSCALE:GREGORIAN
METHOD:PUBLISH
X-WR-CALNAME:sortir.bf
X-ORIGINAL-URL:https://sortir.bf
X-WR-CALDESC:Évènements pour sortir.bf
BEGIN:VTIMEZONE
TZID:Africa/Ouagadougou
BEGIN:STANDARD
TZOFFSETFROM:+0000
TZOFFSETTO:+0000
TZNAME:GMT
DTSTART:20180101T000000
END:STANDARD
END:VTIMEZONE
BEGIN:VEVENT
DTSTART;TZID=Africa/Ouagadougou:20180406T200000
DTEND;TZID=Africa/Ouagadougou:20180406T200000
DTSTAMP:20210826T082221
CREATED:20180326T214627Z
LAST-MODIFIED:20180326T214627Z
UID:18588-1523044800-1523044800@sortir.bf
SUMMARY:Idak Bassavé
DESCRIPTION:La diva de la music burkinabé Idak Bassavé en concert live au CENASA. \nIdak Bassavé\, de son vrai nom Bassavé Kadi\, est enfant d’une famille de célèbres artistes musiciens burkinabé (Abdoulaye Bassavé et Marie Béré et enfants) qui ayant constitué dans les années 1980\, le célèbre groupe musical baptisé “la famille Bassavé”\, se produisit partout dans la sous région Ouest Africaine.\nKadi grandit en famille bercée par les notes mélodieuses de guitare et de piano et par les cadences de batterie de ses virtuoses de parents.\nAinsi encadrée\, elle fit l’apprentissage du métier dès sa tendre enfance\, pratiquant le piano dès l’âge de 13 ans en même temps que ses études secondaires.\nAvec sa famille\, l’orchestre “la famille Bassavé”\, elle participe à une série de concerts “live” dans presque tous les pays d’Afrique de l’Ouest\, avec des titres d’albums restés célèbres au Burkina Faso\, tels “Zambda”\, “au nom du peuple” et “toka toka”.\nA partir de 1998 et avec l’accord de ses parents\, Kadi Bassavé d’entamer une carrière en solo\, sous le nom d’artiste Idak Bassavé.\nElle sort en décembre 1998 son premier album en sept titres\, baptisé “hommes intègres”\, dédié à son pays le Burkina Faso ; un condensé de rythmes tirés du terroir burkinabé où dominent le “warba”\, le “liwaga” etc.\nMais demeurés ouverts à d’autres courants musicaux comme le raggae\, et la salsa. Cet album connaît un franc succès au Burkina Faso et offre à Idak Bassavé l’accès aux portes de la notoriété. Elle est dès lors sollicitée à de nombreux concerts et galas au Burkina Faso au Mali en Côte d’Ivoire\, au Niger et d’autres pays Ouest africaine dite “kora” le 3 novembre 2001 à Johannesburg en Afrique du sud\, ainsi qu’à d’autres grandes manifestations du genre\, tel le “Bénin Awards” de Cotonou en décembre 2001. \n
URL:https://sortir.bf/evenement/idak-bassave-2/
LOCATION:CENASA\, Situe a Paspanga apres le Zenda a gauche au feu qui suit a droite\, Ouagadougou\, 01 BP 6032\, Burkina Faso
CATEGORIES:Concert Live,Musique
ATTACH;FMTTYPE=image/jpeg:https://sortir.bf/wp-content/uploads/2018/03/Idak-bassavé.jpg
GEO:12.3784103;-1.5164825
X-APPLE-STRUCTURED-LOCATION;VALUE=URI;X-ADDRESS=CENASA Situe a Paspanga apres le Zenda a gauche au feu qui suit a droite Ouagadougou 01 BP 6032 Burkina Faso;X-APPLE-RADIUS=500;X-TITLE=Situe a Paspanga apres le Zenda a gauche au feu qui suit a droite:geo:-1.5164825,12.3784103
END:VEVENT
END:VCALENDAR