BEGIN:VCALENDAR
VERSION:2.0
PRODID:-//sortir.bf - ECPv4.9.14//NONSGML v1.0//EN
CALSCALE:GREGORIAN
METHOD:PUBLISH
X-WR-CALNAME:sortir.bf
X-ORIGINAL-URL:https://sortir.bf
X-WR-CALDESC:Évènements pour sortir.bf
BEGIN:VTIMEZONE
TZID:Africa/Ouagadougou
BEGIN:STANDARD
TZOFFSETFROM:+0000
TZOFFSETTO:+0000
TZNAME:GMT
DTSTART:20190101T000000
END:STANDARD
END:VTIMEZONE
BEGIN:VEVENT
DTSTART;TZID=Africa/Ouagadougou:20190402T200000
DTEND;TZID=Africa/Ouagadougou:20190402T200000
DTSTAMP:20210825T224242
CREATED:20190402T135802Z
LAST-MODIFIED:20190402T135802Z
UID:27876-1554235200-1554235200@sortir.bf
SUMMARY:Glass
DESCRIPTION:Peu de temps après les événements relatés dans Split\, David Dunn – l’homme incassable – poursuit sa traque de La Bête\, surnom donné à Kevin Crumb depuis qu’on le sait capable d’endosser 23 personnalités différentes. De son côté\, le mystérieux homme souffrant du syndrome des os de verre Elijah Price suscite à nouveau l’intérêt des forces de l’ordre en affirmant détenir des informations capitales sur les deux hommes… \n
URL:https://sortir.bf/evenement/glass-15/
LOCATION:Canal Olympia Yennenga\, Situe a Ouaga 2000 Cote Est du monument des Martyrs\, Ouagadougou\, Burkina Faso
CATEGORIES:Cinéma,Long métrage
ATTACH;FMTTYPE=image/jpeg:https://sortir.bf/wp-content/uploads/2019/01/glass.jpg
GEO:12.310525;-1.499279
X-APPLE-STRUCTURED-LOCATION;VALUE=URI;X-ADDRESS=Canal Olympia Yennenga Situe a Ouaga 2000 Cote Est du monument des Martyrs Ouagadougou Burkina Faso;X-APPLE-RADIUS=500;X-TITLE=Situe a Ouaga 2000 Cote Est du monument des Martyrs:geo:-1.499279,12.310525
END:VEVENT
END:VCALENDAR