BEGIN:VCALENDAR
VERSION:2.0
PRODID:-//sortir.bf - ECPv4.9.14//NONSGML v1.0//EN
CALSCALE:GREGORIAN
METHOD:PUBLISH
X-WR-CALNAME:sortir.bf
X-ORIGINAL-URL:https://sortir.bf
X-WR-CALDESC:Évènements pour sortir.bf
BEGIN:VTIMEZONE
TZID:Africa/Ouagadougou
BEGIN:STANDARD
TZOFFSETFROM:+0000
TZOFFSETTO:+0000
TZNAME:GMT
DTSTART:20170101T000000
END:STANDARD
END:VTIMEZONE
BEGIN:VEVENT
DTSTART;TZID=Africa/Ouagadougou:20171214T140000
DTEND;TZID=Africa/Ouagadougou:20171214T140000
DTSTAMP:20210828T143240
CREATED:20171212T072845Z
LAST-MODIFIED:20171212T072845Z
UID:15677-1513260000-1513260000@sortir.bf
SUMMARY:Formidable
DESCRIPTION:Le spectacle « FORMIDABLE » du conteur hors pair Wilfrid OUEDRAOGO est un savant mélange de contes\, de pensées et de récits qui questionnent la place du conte et du conteur dans notre société contemporaine. Il est ponctué de sonorités traditionnelles avec Wilfrid lui-même et David Zoungrana à la guitare. « FORMIDABLE » est aussi un appel à la résistance et à la dénonciation face à ce monde de plus en plus cruel\, et face à cette Afrique en proie à la boulimie des ‘multinationales’ et de ses dirigeants. \nDistribution: Wilfrid Ouedraogo et David Zoungrana \n
URL:https://sortir.bf/evenement/formidable-6/
LOCATION:Lycée St Michel\, Sur boulevard France Afrique\, rentrer dans le Carée qui face au restaurant Chinois\, Ouagadougou
CATEGORIES:Conte,Spectacle vivant
ATTACH;FMTTYPE=image/jpeg:https://sortir.bf/wp-content/uploads/2017/12/formidable-_lycées.jpg
GEO:12.319656;-1.530136
X-APPLE-STRUCTURED-LOCATION;VALUE=URI;X-ADDRESS=Lycée St Michel Sur boulevard France Afrique rentrer dans le Carée qui face au restaurant Chinois Ouagadougou;X-APPLE-RADIUS=500;X-TITLE=Sur boulevard France Afrique\, rentrer dans le Carée qui face au restaurant Chinois:geo:-1.530136,12.319656
END:VEVENT
END:VCALENDAR