BEGIN:VCALENDAR
VERSION:2.0
PRODID:-//sortir.bf - ECPv4.9.14//NONSGML v1.0//EN
CALSCALE:GREGORIAN
METHOD:PUBLISH
X-WR-CALNAME:sortir.bf
X-ORIGINAL-URL:https://sortir.bf
X-WR-CALDESC:Évènements pour sortir.bf
BEGIN:VTIMEZONE
TZID:Africa/Ouagadougou
BEGIN:STANDARD
TZOFFSETFROM:+0000
TZOFFSETTO:+0000
TZNAME:GMT
DTSTART:20170101T000000
END:STANDARD
END:VTIMEZONE
BEGIN:VEVENT
DTSTART;TZID=Africa/Ouagadougou:20171221T070000
DTEND;TZID=Africa/Ouagadougou:20171221T070000
DTSTAMP:20210826T080850
CREATED:20171217T213743Z
LAST-MODIFIED:20171217T213743Z
UID:15763-1513839600-1513839600@sortir.bf
SUMMARY:Don de Sang
DESCRIPTION:Don de sang à l’occasion des 48h de don de soi\, un riche programme d’oeuvres sociales organisé par l’actrice burkinabè Samira Savadogo \n
URL:https://sortir.bf/evenement/don-de-sang-4/
LOCATION:CENASA\, Situe a Paspanga apres le Zenda a gauche au feu qui suit a droite\, Ouagadougou\, 01 BP 6032\, Burkina Faso
CATEGORIES:Social
ATTACH;FMTTYPE=image/jpeg:https://sortir.bf/wp-content/uploads/2017/12/don-de-soi.jpg
GEO:12.3784103;-1.5164825
X-APPLE-STRUCTURED-LOCATION;VALUE=URI;X-ADDRESS=CENASA Situe a Paspanga apres le Zenda a gauche au feu qui suit a droite Ouagadougou 01 BP 6032 Burkina Faso;X-APPLE-RADIUS=500;X-TITLE=Situe a Paspanga apres le Zenda a gauche au feu qui suit a droite:geo:-1.5164825,12.3784103
END:VEVENT
END:VCALENDAR