BEGIN:VCALENDAR
VERSION:2.0
PRODID:-//sortir.bf - ECPv4.9.14//NONSGML v1.0//EN
CALSCALE:GREGORIAN
METHOD:PUBLISH
X-WR-CALNAME:sortir.bf
X-ORIGINAL-URL:https://sortir.bf
X-WR-CALDESC:Évènements pour sortir.bf
BEGIN:VTIMEZONE
TZID:Africa/Ouagadougou
BEGIN:STANDARD
TZOFFSETFROM:+0000
TZOFFSETTO:+0000
TZNAME:GMT
DTSTART:20180101T000000
END:STANDARD
END:VTIMEZONE
BEGIN:VEVENT
DTSTART;TZID=Africa/Ouagadougou:20180105T200000
DTEND;TZID=Africa/Ouagadougou:20180105T200000
DTSTAMP:20210826T081155
CREATED:20171224T065931Z
LAST-MODIFIED:20171224T065931Z
UID:16034-1515182400-1515182400@sortir.bf
SUMMARY:Dicko Fils
DESCRIPTION:ambè Sambè\,\nDICKO FILS nous souhaite une excellente année 2018 en nous offrant son nouvel album. Rendez-vous le vendredi 05 janvier 2018 à partir de 20 heures au Cenasa pour un concert live inoubliable. \n
URL:https://sortir.bf/evenement/dicko-fils-4/
LOCATION:CENASA\, Situe a Paspanga apres le Zenda a gauche au feu qui suit a droite\, Ouagadougou\, 01 BP 6032\, Burkina Faso
CATEGORIES:Concert Live,Dédicace,Musique
ATTACH;FMTTYPE=image/jpeg:https://sortir.bf/wp-content/uploads/2017/12/dicko-fils.jpg
GEO:12.3784103;-1.5164825
X-APPLE-STRUCTURED-LOCATION;VALUE=URI;X-ADDRESS=CENASA Situe a Paspanga apres le Zenda a gauche au feu qui suit a droite Ouagadougou 01 BP 6032 Burkina Faso;X-APPLE-RADIUS=500;X-TITLE=Situe a Paspanga apres le Zenda a gauche au feu qui suit a droite:geo:-1.5164825,12.3784103
END:VEVENT
END:VCALENDAR