BEGIN:VCALENDAR
VERSION:2.0
PRODID:-//sortir.bf - ECPv4.9.14//NONSGML v1.0//EN
CALSCALE:GREGORIAN
METHOD:PUBLISH
X-WR-CALNAME:sortir.bf
X-ORIGINAL-URL:https://sortir.bf
X-WR-CALDESC:Évènements pour sortir.bf
BEGIN:VTIMEZONE
TZID:Africa/Ouagadougou
BEGIN:STANDARD
TZOFFSETFROM:+0000
TZOFFSETTO:+0000
TZNAME:GMT
DTSTART:20190101T000000
END:STANDARD
END:VTIMEZONE
BEGIN:VEVENT
DTSTART;TZID=Africa/Ouagadougou:20190403T170000
DTEND;TZID=Africa/Ouagadougou:20190403T170000
DTSTAMP:20210825T224258
CREATED:20190402T135028Z
LAST-MODIFIED:20190402T135055Z
UID:27880-1554310800-1554310800@sortir.bf
SUMMARY:Captain Marvel
DESCRIPTION:Captain Marvel raconte l’histoire de Carol Danvers qui va devenir l’une des super-héroïnes les plus puissantes de l’univers lorsque la Terre se révèle l’enjeu d’une guerre galactique entre deux races extraterrestres… \n
URL:https://sortir.bf/evenement/captain-marvel-8/2019-04-03/
LOCATION:Canal Olympia Yennenga\, Situe a Ouaga 2000 Cote Est du monument des Martyrs\, Ouagadougou\, Burkina Faso
CATEGORIES:Cinéma,Long métrage
ATTACH;FMTTYPE=image/jpeg:https://sortir.bf/wp-content/uploads/2019/03/captain-marvel.jpg
GEO:12.310525;-1.499279
X-APPLE-STRUCTURED-LOCATION;VALUE=URI;X-ADDRESS=Canal Olympia Yennenga Situe a Ouaga 2000 Cote Est du monument des Martyrs Ouagadougou Burkina Faso;X-APPLE-RADIUS=500;X-TITLE=Situe a Ouaga 2000 Cote Est du monument des Martyrs:geo:-1.499279,12.310525
END:VEVENT
END:VCALENDAR